BEGIN:VCALENDAR
VERSION:2.0
PRODID:-//Solon Historical Society - ECPv6.15.20//NONSGML v1.0//EN
CALSCALE:GREGORIAN
METHOD:PUBLISH
X-WR-CALNAME:Solon Historical Society
X-ORIGINAL-URL:https://www.solonhistoricalsociety.org
X-WR-CALDESC:Events for Solon Historical Society
REFRESH-INTERVAL;VALUE=DURATION:PT1H
X-Robots-Tag:noindex
X-PUBLISHED-TTL:PT1H
BEGIN:VTIMEZONE
TZID:America/New_York
BEGIN:DAYLIGHT
TZOFFSETFROM:-0500
TZOFFSETTO:-0400
TZNAME:EDT
DTSTART:20180311T070000
END:DAYLIGHT
BEGIN:STANDARD
TZOFFSETFROM:-0400
TZOFFSETTO:-0500
TZNAME:EST
DTSTART:20181104T060000
END:STANDARD
BEGIN:DAYLIGHT
TZOFFSETFROM:-0500
TZOFFSETTO:-0400
TZNAME:EDT
DTSTART:20190310T070000
END:DAYLIGHT
BEGIN:STANDARD
TZOFFSETFROM:-0400
TZOFFSETTO:-0500
TZNAME:EST
DTSTART:20191103T060000
END:STANDARD
BEGIN:DAYLIGHT
TZOFFSETFROM:-0500
TZOFFSETTO:-0400
TZNAME:EDT
DTSTART:20200308T070000
END:DAYLIGHT
BEGIN:STANDARD
TZOFFSETFROM:-0400
TZOFFSETTO:-0500
TZNAME:EST
DTSTART:20201101T060000
END:STANDARD
END:VTIMEZONE
BEGIN:VEVENT
DTSTART;TZID=America/New_York:20190908T140000
DTEND;TZID=America/New_York:20190908T170000
DTSTAMP:20260421T080849
CREATED:20190204T220645Z
LAST-MODIFIED:20190204T220645Z
UID:374-1567951200-1567962000@www.solonhistoricalsociety.org
SUMMARY:Kevin Noon Sharpening service - A sharp knife is a safe knife!
DESCRIPTION:Kevin Noon\, The Environmentally Friendly Sharpener will visit the SHS again.  He will sharpen knives (including serrated)\, scissors(including pinking)\, gardening tools\, cooking tools\, woodworking tools\, sewing tools\, salon tools and paper cutters. He uses a repurposed 1923 treadle adapted to spin wheels of differing grits. Using a foot powered treadle enables him to vary the speed of the wheels so that he can safely sharpen your items.  There is a charge for his service. Check out noonsharpening.com for pricing. Museum will be open.
URL:https://www.solonhistoricalsociety.org/event/kevin-noon-sharpening-service-a-sharp-knife-is-a-safe-knife/
LOCATION:Solon Historical Society\, 33975 Bainbridge Rd\, Solon\, OH\, 44139\, United States
END:VEVENT
END:VCALENDAR