BEGIN:VCALENDAR
VERSION:2.0
PRODID:-//Solon Historical Society - ECPv6.15.20//NONSGML v1.0//EN
CALSCALE:GREGORIAN
METHOD:PUBLISH
X-ORIGINAL-URL:https://www.solonhistoricalsociety.org
X-WR-CALDESC:Events for Solon Historical Society
REFRESH-INTERVAL;VALUE=DURATION:PT1H
X-Robots-Tag:noindex
X-PUBLISHED-TTL:PT1H
BEGIN:VTIMEZONE
TZID:America/New_York
BEGIN:DAYLIGHT
TZOFFSETFROM:-0500
TZOFFSETTO:-0400
TZNAME:EDT
DTSTART:20180311T070000
END:DAYLIGHT
BEGIN:STANDARD
TZOFFSETFROM:-0400
TZOFFSETTO:-0500
TZNAME:EST
DTSTART:20181104T060000
END:STANDARD
BEGIN:DAYLIGHT
TZOFFSETFROM:-0500
TZOFFSETTO:-0400
TZNAME:EDT
DTSTART:20190310T070000
END:DAYLIGHT
BEGIN:STANDARD
TZOFFSETFROM:-0400
TZOFFSETTO:-0500
TZNAME:EST
DTSTART:20191103T060000
END:STANDARD
BEGIN:DAYLIGHT
TZOFFSETFROM:-0500
TZOFFSETTO:-0400
TZNAME:EDT
DTSTART:20200308T070000
END:DAYLIGHT
BEGIN:STANDARD
TZOFFSETFROM:-0400
TZOFFSETTO:-0500
TZNAME:EST
DTSTART:20201101T060000
END:STANDARD
END:VTIMEZONE
BEGIN:VEVENT
DTSTART;TZID=America/New_York:20190514T190000
DTEND;TZID=America/New_York:20190514T210000
DTSTAMP:20260421T165439
CREATED:20190204T220304Z
LAST-MODIFIED:20190204T220304Z
UID:368-1557860400-1557867600@www.solonhistoricalsociety.org
SUMMARY:Audubon Society of Greater Cleveland - Ohio Spring and Summer Bird Watching
DESCRIPTION:Over 200 species of birds can be found in NE Ohio. Some are year-round and others just pass through on their way to the Boreal Forests of Canada. Others fly across the Gulf of Mexico non-stop to have their babies in our back yards. Get a close up look at 100 of the most common residents\, migrants and breeding birds of NE Ohio and learn where and when to find them. Information about binoculars and bird field guides will also be included. It’s Pie night\, bring a pie to share.
URL:https://www.solonhistoricalsociety.org/event/audubon-society-of-greater-cleveland-ohio-spring-and-summer-bird-watching/
LOCATION:Solon Historical Society\, 33975 Bainbridge Rd\, Solon\, OH\, 44139\, United States
CATEGORIES:Pie Night
END:VEVENT
END:VCALENDAR